BEGIN:VCALENDAR
VERSION:2.0
PRODID:-//Advanced Intellect//aspNetEmail Calendar Writer(v4.0.0.57)//EN
METHOD:POST
BEGIN:VTIMEZONE
LAST-MODIFIED:20260422T220305Z
TZID:Pacific Standard Time
BEGIN:STANDARD
DTSTART:16010101T030000
TZOFFSETFROM:-0700
TZOFFSETTO:-0800
TZNAME:PST
RRULE:FREQ=YEARLY;BYMONTH=11;BYDAY=1SU
END:STANDARD
BEGIN:DAYLIGHT
DTSTART:16010101T020000
TZOFFSETFROM:-0800
TZOFFSETTO:-0700
TZNAME:PDT
RRULE:FREQ=YEARLY;BYMONTH=3;BYDAY=2SU
END:DAYLIGHT
END:VTIMEZONE
BEGIN:VEVENT
DTSTART;TZID="Pacific Standard Time":20190805T110000
DTEND;TZID="Pacific Standard Time":20190809T140000
UID:61f94446-9621-4866-beb7-2c7d7b4a5da1
CREATED:20260423T050305Z
DTSTAMP:20260423T050305Z
LAST-MODIFIED:20260423T050305Z
DESCRIPTION:
CLASS:PUBLIC
LOCATION:Sanctuary
PRIORITY:5
SUMMARY:Campbell Farm  
TRANSP:OPAQUE
SEQUENCE:0
ORGANIZER;CN="Kara Stender":MAILTO:skstender1@gmail.com
STATUS:NEEDS ACTION
BEGIN:VALARM
DESCRIPTION:Campbell Farm  
ACTION:DISPLAY
TRIGGER:-PT30M
END:VALARM
END:VEVENT
END:VCALENDAR