BEGIN:VCALENDAR
VERSION:2.0
PRODID:-//Advanced Intellect//aspNetEmail Calendar Writer(v4.0.0.57)//EN
METHOD:POST
BEGIN:VTIMEZONE
LAST-MODIFIED:20260423T033157Z
TZID:Pacific Standard Time
BEGIN:STANDARD
DTSTART:16010101T030000
TZOFFSETFROM:-0700
TZOFFSETTO:-0800
TZNAME:PST
RRULE:FREQ=YEARLY;BYMONTH=11;BYDAY=1SU
END:STANDARD
BEGIN:DAYLIGHT
DTSTART:16010101T020000
TZOFFSETFROM:-0800
TZOFFSETTO:-0700
TZNAME:PDT
RRULE:FREQ=YEARLY;BYMONTH=3;BYDAY=2SU
END:DAYLIGHT
END:VTIMEZONE
BEGIN:VEVENT
DTSTART;TZID="Pacific Standard Time":20191107T190000
DTEND;TZID="Pacific Standard Time":20191107T203000
UID:c45de639-e003-4268-bec1-3ba723d786b3
CREATED:20260423T103157Z
DTSTAMP:20260423T103157Z
LAST-MODIFIED:20260423T103157Z
DESCRIPTION:
CLASS:PUBLIC
LOCATION:
PRIORITY:5
SUMMARY:Women's Fall Evening Bible Study 
TRANSP:OPAQUE
SEQUENCE:0
ORGANIZER;CN="Amira Bestauros":MAILTO:abestauros@spconline.org
STATUS:NEEDS ACTION
BEGIN:VALARM
DESCRIPTION:Women's Fall Evening Bible Study 
ACTION:DISPLAY
TRIGGER:-PT30M
END:VALARM
END:VEVENT
END:VCALENDAR