BEGIN:VCALENDAR
VERSION:2.0
PRODID:-//Advanced Intellect//aspNetEmail Calendar Writer(v4.0.0.57)//EN
METHOD:POST
BEGIN:VTIMEZONE
LAST-MODIFIED:20260423T222750Z
TZID:Pacific Standard Time
BEGIN:STANDARD
DTSTART:16010101T030000
TZOFFSETFROM:-0700
TZOFFSETTO:-0800
TZNAME:PST
RRULE:FREQ=YEARLY;BYMONTH=11;BYDAY=1SU
END:STANDARD
BEGIN:DAYLIGHT
DTSTART:16010101T020000
TZOFFSETFROM:-0800
TZOFFSETTO:-0700
TZNAME:PDT
RRULE:FREQ=YEARLY;BYMONTH=3;BYDAY=2SU
END:DAYLIGHT
END:VTIMEZONE
BEGIN:VEVENT
DTSTART;TZID="Pacific Standard Time":20200518T093000
DTEND;TZID="Pacific Standard Time":20200518T104500
UID:658e7e67-9153-4306-ab00-2890770fb6b8
CREATED:20260424T052750Z
DTSTAMP:20260424T052750Z
LAST-MODIFIED:20260424T052750Z
DESCRIPTION:
CLASS:PUBLIC
LOCATION:
PRIORITY:5
SUMMARY:2020 Glory Days Preschool Spring Parent/Toddler Class
TRANSP:OPAQUE
SEQUENCE:0
ORGANIZER;CN="Korina Meyer":MAILTO:korinameyer@glorydayspreschool.org
STATUS:NEEDS ACTION
BEGIN:VALARM
DESCRIPTION:2020 Glory Days Preschool Spring Parent/Toddler Class
ACTION:DISPLAY
TRIGGER:-PT30M
END:VALARM
END:VEVENT
END:VCALENDAR